BEGIN:VCALENDAR
VERSION:2.0
PRODID:-//Westchester Independent Living Center, Inc. - ECPv6.15.20//NONSGML v1.0//EN
CALSCALE:GREGORIAN
METHOD:PUBLISH
X-ORIGINAL-URL:https://www.wilc.org
X-WR-CALDESC:Events for Westchester Independent Living Center, Inc.
REFRESH-INTERVAL;VALUE=DURATION:PT1H
X-Robots-Tag:noindex
X-PUBLISHED-TTL:PT1H
BEGIN:VTIMEZONE
TZID:UTC
BEGIN:STANDARD
TZOFFSETFROM:+0000
TZOFFSETTO:+0000
TZNAME:UTC
DTSTART:20160101T000000
END:STANDARD
END:VTIMEZONE
BEGIN:VEVENT
DTSTART;TZID=UTC:20180612T110000
DTEND;TZID=UTC:20180612T130000
DTSTAMP:20260421T035258
CREATED:20180605T231820Z
LAST-MODIFIED:20180605T231820Z
UID:10003553-1528801200-1528808400@www.wilc.org
SUMMARY:Ins and Outs of Autism
DESCRIPTION:Explore the diagnosis of Autism by breaking down the criteria listed in the DSM-V. This presentation will cover the differential diagnoses of Attention Deficit Disorder\, Social Pragmatic Communication Disorder and Sensory Processing Disorder and how they can overlap with Autism. \nPresented by Michele Koenig\, LPC\, LMFT\, Director of Clinical Programs\, Rockland Jewish Family Services \nJune 12 Ins and Outs of Autism flyer  \nRegister now by clicking here. \nForm more information contact the organizer listed below.
URL:https://www.wilc.org/event/ins-and-outs-of-autism/
LOCATION:WILC\, 10 County Center Road\, White Plains\, NY\, 10607\, United States
ORGANIZER;CN="Rebecka Palmer":MAILTO:rpalmer@wilc.org
GEO:41.0387269;-73.7799025
X-APPLE-STRUCTURED-LOCATION;VALUE=URI;X-ADDRESS=WILC 10 County Center Road White Plains NY 10607 United States;X-APPLE-RADIUS=500;X-TITLE=10 County Center Road:geo:-73.7799025,41.0387269
END:VEVENT
BEGIN:VEVENT
DTSTART;TZID=UTC:20180606T100000
DTEND;TZID=UTC:20180606T113000
DTSTAMP:20260421T035258
CREATED:20180605T231134Z
LAST-MODIFIED:20180605T231134Z
UID:10003548-1528279200-1528284600@www.wilc.org
SUMMARY:Your Employment Rights as an Individual with a Disability
DESCRIPTION:Learn about disclosure\, accommodations\, and your rights as a person with a disability in the workplace with Michael Hellman\, ADA Specialist and Community Advocate. \nJune 6 Employment Rights flyer  \nFor more information or to reserve your space contact the organizer listed below.
URL:https://www.wilc.org/event/your-employment-rights-as-an-individual-with-a-disability/
LOCATION:WILC\, 10 County Center Road\, White Plains\, NY\, 10607\, United States
ORGANIZER;CN="Rebecka Palmer":MAILTO:rpalmer@wilc.org
GEO:41.0387269;-73.7799025
X-APPLE-STRUCTURED-LOCATION;VALUE=URI;X-ADDRESS=WILC 10 County Center Road White Plains NY 10607 United States;X-APPLE-RADIUS=500;X-TITLE=10 County Center Road:geo:-73.7799025,41.0387269
END:VEVENT
BEGIN:VEVENT
DTSTART;TZID=UTC:20180604T130000
DTEND;TZID=UTC:20180604T160000
DTSTAMP:20260421T035258
CREATED:20180605T230542Z
LAST-MODIFIED:20180605T230542Z
UID:10003547-1528117200-1528128000@www.wilc.org
SUMMARY:Empathy vs Sympathy
DESCRIPTION:What are the differences between empathy and sympathy? Where\, when\, and how might you empathize\, or not\, as a service provider or recipient? \nJune 4 Empathy vs. Sympathy flyer \nContact organizer listed below for information or to reserve your space. \n 
URL:https://www.wilc.org/event/empathy-vs-sympathy/
LOCATION:WILC\, 10 County Center Road\, White Plains\, NY\, 10607\, United States
ORGANIZER;CN="Rebecka Palmer":MAILTO:rpalmer@wilc.org
GEO:41.0387269;-73.7799025
X-APPLE-STRUCTURED-LOCATION;VALUE=URI;X-ADDRESS=WILC 10 County Center Road White Plains NY 10607 United States;X-APPLE-RADIUS=500;X-TITLE=10 County Center Road:geo:-73.7799025,41.0387269
END:VEVENT
BEGIN:VEVENT
DTSTART;TZID=UTC:20180515T130000
DTEND;TZID=UTC:20180515T140000
DTSTAMP:20260421T035258
CREATED:20180507T202516Z
LAST-MODIFIED:20180507T202617Z
UID:10003546-1526389200-1526392800@www.wilc.org
SUMMARY:NYS Learners Permit for Drivers Info Session
DESCRIPTION:Join us for an info session on  obtaining a drivers’ learners permit and what you need to know as a person with a disability. \nFlyer for NY State Learners Permit info session \nRegister for this workshop with the organizer listed below.
URL:https://www.wilc.org/event/nys-learners-permit-for-drivers-info-session/
LOCATION:WILC\, 10 County Center Road\, White Plains\, NY\, 10607\, United States
ORGANIZER;CN="Rebecka Palmer":MAILTO:rpalmer@wilc.org
GEO:41.0387269;-73.7799025
X-APPLE-STRUCTURED-LOCATION;VALUE=URI;X-ADDRESS=WILC 10 County Center Road White Plains NY 10607 United States;X-APPLE-RADIUS=500;X-TITLE=10 County Center Road:geo:-73.7799025,41.0387269
END:VEVENT
BEGIN:VEVENT
DTSTART;TZID=UTC:20180515T100000
DTEND;TZID=UTC:20180515T113000
DTSTAMP:20260421T035258
CREATED:20180426T194322Z
LAST-MODIFIED:20180426T194322Z
UID:10003543-1526378400-1526383800@www.wilc.org
SUMMARY:Your Employment Rights
DESCRIPTION:The best way to prepare for employment is knowing your rights. Learn about disclosure\, accommodations\, and your rights as a person with a disability. \nPresented by Michael Hellmann\, ADA Specialist and Community Advocate \nClick here for flyer for Your Employment Rights as an Individual with a Disability  \nTo register or for more information contact the organizer listed below.
URL:https://www.wilc.org/event/your-employment-rights/
LOCATION:WILC\, 10 County Center Road\, White Plains\, NY\, 10607\, United States
ORGANIZER;CN="Rebecka Palmer":MAILTO:rpalmer@wilc.org
GEO:41.0387269;-73.7799025
X-APPLE-STRUCTURED-LOCATION;VALUE=URI;X-ADDRESS=WILC 10 County Center Road White Plains NY 10607 United States;X-APPLE-RADIUS=500;X-TITLE=10 County Center Road:geo:-73.7799025,41.0387269
END:VEVENT
BEGIN:VEVENT
DTSTART;TZID=UTC:20180419T090000
DTEND;TZID=UTC:20180419T120000
DTSTAMP:20260421T035258
CREATED:20180409T234316Z
LAST-MODIFIED:20180409T234614Z
UID:10003539-1524128400-1524139200@www.wilc.org
SUMMARY:The Ins and Outs of the Autism Spectrum Disorder
DESCRIPTION:People who attend this training will be able to identify the many presentations of Autism as well as how to locate and access treatment and supports for adults and children diagnosed with Autism. \nRegister for The Ins and Outs of the Autism Spectrum Disorder here. \nClick here for the Ins and Outs of Autism flyer  \nContact the organizer listed below for additional information.
URL:https://www.wilc.org/event/the-ins-and-outs-of-the-autism-spectrum-disorder/
LOCATION:Rockland Jewish Family Service\, 450 West Nyack Road\, West Nyack\, NY\, 10994\, United States
ORGANIZER;CN="Rebecka Palmer":MAILTO:rpalmer@wilc.org
GEO:41.0998005;-73.9879615
X-APPLE-STRUCTURED-LOCATION;VALUE=URI;X-ADDRESS=Rockland Jewish Family Service 450 West Nyack Road West Nyack NY 10994 United States;X-APPLE-RADIUS=500;X-TITLE=450 West Nyack Road:geo:-73.9879615,41.0998005
END:VEVENT
BEGIN:VEVENT
DTSTART;TZID=UTC:20180125T090000
DTEND;TZID=UTC:20180126T090000
DTSTAMP:20260421T035258
CREATED:20180102T223427Z
LAST-MODIFIED:20180102T223915Z
UID:10002734-1516870800-1516957200@www.wilc.org
SUMMARY:Getting Quick Approval for SSI\, SSDI\, Medicaid and other programs
DESCRIPTION:FREE two-day seminar on how to quickly get approval for SSI\, SSDI\, Medicaid\, and other entitlement programs. \nThursday\, January 25\, 2018\, from 9 a.m. to 4:30 p.m.\nFriday\, January 26\, 2017\, from 9 a.m. to 2:00 p.m. \nMany people with disabilities wait years before they are determined to be eligible for benefits. This free OMH seminar will show you that\, with the correct documentation\, it should take no more than 90 days to get approved.  This seminar will also teach you how to: \n\nRequest a waiver for an overpayment\nAvoid spend-downs.\nUse Social Security work incentives to help maintain SSI and SSDI eligibility as you explore returning to work.\nEase off cash benefits and into self-sufficiency.\nWork full-time and maintain low cost (or even no-cost) health insurance.\nGet expedited reinstatement of benefits.\n\nIRWE\, PASS plans\, Section 301\, and 1619b are some of the other underused mechanisms that will be covered. This seminar is for people with any type of disability\, however\, the main focus will be for people with mental health disabilities. \nFlyer for SSI_SSDI Benefits Seminar  \nClick here to register to attend this program at Westchester Independent Living Center. \nTo register to attend this program as a webinar click here for day one\, event # 311 847 977. \nTo register to attend this program as a webinar click here for day two\, event # 315 726 449 \nFor webinar registration use event password: nysomh123 \nContact organizer listed below for additional information.
URL:https://www.wilc.org/event/getting-quick-approval-for-ssi-ssdi-medicaid-and-other-programs/
LOCATION:WILC\, 10 County Center Road\, White Plains\, NY\, 10607\, United States
ORGANIZER;CN="Rebecka Palmer":MAILTO:rpalmer@wilc.org
GEO:41.0387269;-73.7799025
X-APPLE-STRUCTURED-LOCATION;VALUE=URI;X-ADDRESS=WILC 10 County Center Road White Plains NY 10607 United States;X-APPLE-RADIUS=500;X-TITLE=10 County Center Road:geo:-73.7799025,41.0387269
END:VEVENT
BEGIN:VEVENT
DTSTART;TZID=UTC:20180109T093000
DTEND;TZID=UTC:20180109T113000
DTSTAMP:20260421T035258
CREATED:20171218T203939Z
LAST-MODIFIED:20171218T205242Z
UID:10002733-1515490200-1515497400@www.wilc.org
SUMMARY:My Health My Choice
DESCRIPTION:This hands-on healthy living workshop series is a great start to understanding and learning about how to take responsibility for and managing your own health. First session examines: Taking charge or your health and developing a health plan. \nRegister by email rpalmer@wilc.org \nFlyer for My Health My Choice My Responsibility \nContact organizer listed below for more information.
URL:https://www.wilc.org/event/my-health-my-choice/
LOCATION:WILC\, 10 County Center Road\, White Plains\, NY\, 10607\, United States
ORGANIZER;CN="Rebecka Palmer":MAILTO:rpalmer@wilc.org
GEO:41.0387269;-73.7799025
X-APPLE-STRUCTURED-LOCATION;VALUE=URI;X-ADDRESS=WILC 10 County Center Road White Plains NY 10607 United States;X-APPLE-RADIUS=500;X-TITLE=10 County Center Road:geo:-73.7799025,41.0387269
END:VEVENT
BEGIN:VEVENT
DTSTART;TZID=UTC:20171218T090000
DTEND;TZID=UTC:20171218T170000
DTSTAMP:20260421T035258
CREATED:20171128T225349Z
LAST-MODIFIED:20171128T225349Z
UID:10002729-1513587600-1513616400@www.wilc.org
SUMMARY:Developing Emotional Regulation and  Intelligence
DESCRIPTION:Emotional Regulation Skills and the development of Emotional Intelligence are the key factors in one’s personal psychological well-being and successful interpersonal and intrapersonal relationships. \nProfessionals in the mental health field are increasingly becoming aware of the importance of self-management\, self-awareness\, mindfulness\, and self emotional-regulation ability in order to maintain their inner peace and stability. \nClick here for Developing Emotional Regulation and Intelligence flyer \nRegister for workshop here \nFor additional information contact the organizer listed below
URL:https://www.wilc.org/event/developing-emotional-regulation-and-intelligence/
LOCATION:WILC\, 10 County Center Road\, White Plains\, NY\, 10607\, United States
ORGANIZER;CN="Rebecka Palmer":MAILTO:rpalmer@wilc.org
GEO:41.0387269;-73.7799025
X-APPLE-STRUCTURED-LOCATION;VALUE=URI;X-ADDRESS=WILC 10 County Center Road White Plains NY 10607 United States;X-APPLE-RADIUS=500;X-TITLE=10 County Center Road:geo:-73.7799025,41.0387269
END:VEVENT
BEGIN:VEVENT
DTSTART;TZID=UTC:20171212T093000
DTEND;TZID=UTC:20171212T113000
DTSTAMP:20260421T035258
CREATED:20171208T004407Z
LAST-MODIFIED:20171208T004407Z
UID:10002732-1513071000-1513078200@www.wilc.org
SUMMARY:The Art of Budgeting
DESCRIPTION:This hands on interactive budgeting course is a great start to understanding and learning how to manage your money. \nClick here for The Art of Budgeting flyer \nRegister by clicking here \nFor more information contact the organizer listed below. \n 
URL:https://www.wilc.org/event/the-art-of-budgeting-3/
LOCATION:WILC\, 10 County Center Road\, White Plains\, NY\, 10607\, United States
ORGANIZER;CN="Rebecka Palmer":MAILTO:rpalmer@wilc.org
GEO:41.0387269;-73.7799025
X-APPLE-STRUCTURED-LOCATION;VALUE=URI;X-ADDRESS=WILC 10 County Center Road White Plains NY 10607 United States;X-APPLE-RADIUS=500;X-TITLE=10 County Center Road:geo:-73.7799025,41.0387269
END:VEVENT
BEGIN:VEVENT
DTSTART;TZID=UTC:20171205T093000
DTEND;TZID=UTC:20171205T233000
DTSTAMP:20260421T035258
CREATED:20171114T215613Z
LAST-MODIFIED:20171121T022933Z
UID:10002726-1512466200-1512516600@www.wilc.org
SUMMARY:My Health\, My Choice\, My Responsibility
DESCRIPTION:This is a hands-on healthy living workshop series. Each session covers a health area\, first session: taking charge of your health and developing a health plan. \nTo register or for more information contact the organizer listed below.
URL:https://www.wilc.org/event/my-health-my-choice-my-responsibility/
LOCATION:WILC\, 10 County Center Road\, White Plains\, NY\, 10607\, United States
ORGANIZER;CN="Rebecka Palmer":MAILTO:rpalmer@wilc.org
GEO:41.0387269;-73.7799025
X-APPLE-STRUCTURED-LOCATION;VALUE=URI;X-ADDRESS=WILC 10 County Center Road White Plains NY 10607 United States;X-APPLE-RADIUS=500;X-TITLE=10 County Center Road:geo:-73.7799025,41.0387269
END:VEVENT
BEGIN:VEVENT
DTSTART;TZID=UTC:20171120T090000
DTEND;TZID=UTC:20171120T110000
DTSTAMP:20260421T035258
CREATED:20171102T175722Z
LAST-MODIFIED:20171114T214228Z
UID:10003144-1511168400-1511175600@www.wilc.org
SUMMARY:Social Security Disability Benefits
DESCRIPTION:Join us for an in-service training facilitated by representatives from the Social Security Administration that will highlight Social Security Disability Benefits\, Eligibility\, Application\, Work Incentive Programs and more. \nSSD_Benefits_Workshop_Rockland_11.20.2017 \nRegister here for the workshop.  \nFor more information the organizer listed below. \n 
URL:https://www.wilc.org/event/social-security-disability-benefits/
LOCATION:Rockland County Fire Training Center\, 35 Fireman’s Memorial Drive\, Pomona\, NY\, 10970\, United States
ORGANIZER;CN="Rebecka Palmer":MAILTO:rpalmer@wilc.org
GEO:41.1735074;-74.0361382
X-APPLE-STRUCTURED-LOCATION;VALUE=URI;X-ADDRESS=Rockland County Fire Training Center 35 Fireman’s Memorial Drive Pomona NY 10970 United States;X-APPLE-RADIUS=500;X-TITLE=35 Fireman’s Memorial Drive:geo:-74.0361382,41.1735074
END:VEVENT
BEGIN:VEVENT
DTSTART;TZID=UTC:20171114T093000
DTEND;TZID=UTC:20171114T113000
DTSTAMP:20260421T035258
CREATED:20171102T181659Z
LAST-MODIFIED:20171102T181659Z
UID:10003145-1510651800-1510659000@www.wilc.org
SUMMARY:The Art of Budgeting
DESCRIPTION:This hands on interactive budgeting course is a great start to understanding and managing your money. \nFlyer Budgeting_11.14.2017_WILC \nRegister with the organizer listed below.
URL:https://www.wilc.org/event/the-art-of-budgeting-2/
LOCATION:WILC\, 10 County Center Road\, White Plains\, NY\, 10607\, United States
ORGANIZER;CN="Rebecka Palmer":MAILTO:rpalmer@wilc.org
GEO:41.0387269;-73.7799025
X-APPLE-STRUCTURED-LOCATION;VALUE=URI;X-ADDRESS=WILC 10 County Center Road White Plains NY 10607 United States;X-APPLE-RADIUS=500;X-TITLE=10 County Center Road:geo:-73.7799025,41.0387269
END:VEVENT
BEGIN:VEVENT
DTSTART;TZID=UTC:20170928T173000
DTEND;TZID=UTC:20170928T193000
DTSTAMP:20260421T035258
CREATED:20170822T183249Z
LAST-MODIFIED:20170822T185207Z
UID:10003119-1506619800-1506627000@www.wilc.org
SUMMARY:Right Footed\, Winner of 17 Film Festival Awards
DESCRIPTION:Join us for a one-night exclusive screening of Right Footed\, the story of Jessica Cox\, born without arms\, who believed she could accomplish her dreams her story of overcoming adversity\, becoming an advocate for children with disabilities and a disability rights advocate in the U.S and abroad. \nQuestion and Answer discussion to follow movie. \nFlyer Right Footed 9.28.2017 \nTickets are $11.00 and can be purchased at www.tug.com \nShowcase City Center 15: Cinema De Lux\n19 Mamaroneck Ave.\nWhite Plains\, NY 10601 \nFor information: Rebecka Palmer\,  rpalmer@wilc.org
URL:https://www.wilc.org/event/right-footed-winner-of-17-film-festival-awards/
ORGANIZER;CN="Rebecka Palmer":MAILTO:rpalmer@wilc.org
END:VEVENT
END:VCALENDAR